BEGIN:VCALENDAR
VERSION:2.0
PRODID:-//Art de Vivre Kids - ECPv6.7.1//NONSGML v1.0//EN
CALSCALE:GREGORIAN
METHOD:PUBLISH
X-WR-CALNAME:Art de Vivre Kids
X-ORIGINAL-URL:https://kids.art-de-vivre-a-laremoise.com
X-WR-CALDESC:Évènements pour Art de Vivre Kids
REFRESH-INTERVAL;VALUE=DURATION:PT1H
X-Robots-Tag:noindex
X-PUBLISHED-TTL:PT1H
BEGIN:VTIMEZONE
TZID:Europe/Paris
BEGIN:DAYLIGHT
TZOFFSETFROM:+0100
TZOFFSETTO:+0200
TZNAME:CEST
DTSTART:20240331T010000
END:DAYLIGHT
BEGIN:STANDARD
TZOFFSETFROM:+0200
TZOFFSETTO:+0100
TZNAME:CET
DTSTART:20241027T010000
END:STANDARD
END:VTIMEZONE
BEGIN:VEVENT
DTSTART;TZID=Europe/Paris:20240830T080000
DTEND;TZID=Europe/Paris:20240830T170000
DTSTAMP:20260420T080926
CREATED:20240830T125835Z
LAST-MODIFIED:20240903T150736Z
UID:36-1725004800-1725037200@kids.art-de-vivre-a-laremoise.com
SUMMARY:À nous deux
DESCRIPTION:Ce duo captive les tout-petits (dès six mois) grâce aux formes et aux silhouettes qui s’animent au fil des mouvements des danseurs et des projections vidéo. Un spectacle poétique et ludique sur la relation à l’autre\, aux autres. + atelier en famille avec Claire Jenny / samedi 05 octobre
URL:https://kids.art-de-vivre-a-laremoise.com/event/a-nous-deux/
LOCATION:Manège\, 2 Bd du Général Leclerc\, Reims\, 51724\, France
CATEGORIES:La Manège
ATTACH;FMTTYPE=image/jpeg:https://kids.art-de-vivre-a-laremoise.com/wp-content/uploads/2024/08/BERPA220411_14.jpg
END:VEVENT
END:VCALENDAR