BEGIN:VCALENDAR
VERSION:2.0
PRODID:-//Art de Vivre Kids - ECPv6.7.1//NONSGML v1.0//EN
CALSCALE:GREGORIAN
METHOD:PUBLISH
X-ORIGINAL-URL:https://kids.art-de-vivre-a-laremoise.com
X-WR-CALDESC:Évènements pour Art de Vivre Kids
REFRESH-INTERVAL;VALUE=DURATION:PT1H
X-Robots-Tag:noindex
X-PUBLISHED-TTL:PT1H
BEGIN:VTIMEZONE
TZID:Europe/Paris
BEGIN:DAYLIGHT
TZOFFSETFROM:+0100
TZOFFSETTO:+0200
TZNAME:CEST
DTSTART:20240331T010000
END:DAYLIGHT
BEGIN:STANDARD
TZOFFSETFROM:+0200
TZOFFSETTO:+0100
TZNAME:CET
DTSTART:20241027T010000
END:STANDARD
END:VTIMEZONE
BEGIN:VEVENT
DTSTART;VALUE=DATE:20240921
DTEND;VALUE=DATE:20240922
DTSTAMP:20260420T081350
CREATED:20240830T141923Z
LAST-MODIFIED:20240903T150659Z
UID:153-1726876800-1726963199@kids.art-de-vivre-a-laremoise.com
SUMMARY:Anniversaire numérique
DESCRIPTION:Offrez à vos enfants un moment unique et ludique. Au programme\, découverte des jeux vidéos MADE IN SAINT-EX comme «l’attaque de brocolis» où les enfants sont en équilibre sur une planche pour se déplacer dans le jeu\, danse\, création de musique\, assemblage de toupies en bois et défis… Vous apportez le gâteau\, on s’occupe des invitations\, de la boisson et des surprises.
URL:https://kids.art-de-vivre-a-laremoise.com/event/anniversaire-numerique/
LOCATION:Saint-Ex Culture Numérique\, Chaussée Bocquaine\, Esplanade André Malraux\, Reims\, 51100\, France
CATEGORIES:Saint-Ex
ATTACH;FMTTYPE=image/jpeg:https://kids.art-de-vivre-a-laremoise.com/wp-content/uploads/2024/08/DSC02717-1.jpg
END:VEVENT
END:VCALENDAR