BEGIN:VCALENDAR
VERSION:2.0
PRODID:-//Art de Vivre Kids - ECPv6.7.1//NONSGML v1.0//EN
CALSCALE:GREGORIAN
METHOD:PUBLISH
X-WR-CALNAME:Art de Vivre Kids
X-ORIGINAL-URL:https://kids.art-de-vivre-a-laremoise.com
X-WR-CALDESC:Évènements pour Art de Vivre Kids
REFRESH-INTERVAL;VALUE=DURATION:PT1H
X-Robots-Tag:noindex
X-PUBLISHED-TTL:PT1H
BEGIN:VTIMEZONE
TZID:Europe/Paris
BEGIN:DAYLIGHT
TZOFFSETFROM:+0100
TZOFFSETTO:+0200
TZNAME:CEST
DTSTART:20240331T010000
END:DAYLIGHT
BEGIN:STANDARD
TZOFFSETFROM:+0200
TZOFFSETTO:+0100
TZNAME:CET
DTSTART:20241027T010000
END:STANDARD
END:VTIMEZONE
BEGIN:VEVENT
DTSTART;TZID=Europe/Paris:20241018T190000
DTEND;TZID=Europe/Paris:20241018T200000
DTSTAMP:20260420T064835
CREATED:20240830T144146Z
LAST-MODIFIED:20240903T150529Z
UID:167-1729278000-1729281600@kids.art-de-vivre-a-laremoise.com
SUMMARY:Esencial
DESCRIPTION:L’essentiel\, pour cette compagnie espagnole voyageuse\, n’est-il pas de piquer l’imagination ? Ce qu’elle fait magnifiquement avec ce spectacle de haute volée où cirque et danse se renvoient la balle… Comme le jeu « Arc En Ciel » de Waldorf dont elle s’inspire\, la nouvelle création de Vaivén Circo repose sur un savant travail d’équilibre. Entre des arcs géants. Entre des disciplines. Entre des artistes. Acrobates\, danseurs\, jongleurs\, tous les cinq empilent\, balancent\, jouent\, rêvent\, voyagent\, apportant dans notre monde en mouvement leurs propres envolées\, aussi originales qu’impressionnantes.
URL:https://kids.art-de-vivre-a-laremoise.com/event/esencial/
LOCATION:Le carré blanc\, Rue de la Croix Cordier\,\, Tinqueux\, 51430\, France
CATEGORIES:Le carré blanc
ATTACH;FMTTYPE=image/jpeg:https://kids.art-de-vivre-a-laremoise.com/wp-content/uploads/2024/08/2024-10-18-Esencial.jpg
END:VEVENT
END:VCALENDAR