BEGIN:VCALENDAR
VERSION:2.0
PRODID:-//Art de Vivre Kids - ECPv6.7.1//NONSGML v1.0//EN
CALSCALE:GREGORIAN
METHOD:PUBLISH
X-ORIGINAL-URL:https://kids.art-de-vivre-a-laremoise.com
X-WR-CALDESC:Évènements pour Art de Vivre Kids
REFRESH-INTERVAL;VALUE=DURATION:PT1H
X-Robots-Tag:noindex
X-PUBLISHED-TTL:PT1H
BEGIN:VTIMEZONE
TZID:Europe/Paris
BEGIN:DAYLIGHT
TZOFFSETFROM:+0100
TZOFFSETTO:+0200
TZNAME:CEST
DTSTART:20250330T010000
END:DAYLIGHT
BEGIN:STANDARD
TZOFFSETFROM:+0200
TZOFFSETTO:+0100
TZNAME:CET
DTSTART:20251026T010000
END:STANDARD
END:VTIMEZONE
BEGIN:VEVENT
DTSTART;VALUE=DATE:20250113
DTEND;VALUE=DATE:20250125
DTSTAMP:20260420T023815
CREATED:20240830T134604Z
LAST-MODIFIED:20240903T145931Z
UID:46-1736726400-1737763199@kids.art-de-vivre-a-laremoise.com
SUMMARY:Retours
DESCRIPTION:Dans une famille\, un fils qu’on dit disparu\, n’en finit pas de revenir et devient vraiment encombrant pour ses parents. Jouant avec le drame\, le vaudeville et le fantastique\, cette comédie suscite autant le rire que l’effroi. \nDATES à la Boussole 6 avenue Léon Blum\, 51100 Reims Ven. 24 jan. 19h\nDATES en Itinérance Du lun. 13 au jeu. 23 jan. Rencontre avec l’équipe artistique
URL:https://kids.art-de-vivre-a-laremoise.com/event/retours/
LOCATION:Comédie de Reims\, 3 Chaussée Bocquaine\, Reims\, 51100\, France
CATEGORIES:Comédie de Reims
ATTACH;FMTTYPE=image/jpeg:https://kids.art-de-vivre-a-laremoise.com/wp-content/uploads/2024/08/Retours©JeanLouisFernandez-071.jpg
END:VEVENT
BEGIN:VEVENT
DTSTART;VALUE=DATE:20250114
DTEND;VALUE=DATE:20250117
DTSTAMP:20260420T023815
CREATED:20240830T133941Z
LAST-MODIFIED:20250111T185720Z
UID:43-1736812800-1737071999@kids.art-de-vivre-a-laremoise.com
SUMMARY:#Drift - À la dérive
DESCRIPTION:#Drift est un spectacle pour enfants sous dôme immersif\, qui retrace le voyage interstellaire d’une spationaute. Croisant arts et sciences\, cette performance fascinante nous plonge dans la contemplation du cosmos. #Drift est le fruit d’une écriture collaborative entre artistes des arts vivants et des arts numériques\, un auteur de sciencefiction\, des enfants et des astrophysiciens. Le public devient l’équipage privilégié d’un vaisseau spatial. Guidé par un personnage d’astronaute\, l’équipage part à la découverte d’un autre système solaire\, celui de l’étoile Trappist1E\, tout en croisant la route de divers phénomènes astrophysiques. Sons\, lumières et images 3D nous entraînent loin de la planète bleue\, pour un moment de suspension dans le temps et l’espace\, propice à la connaissance et à la rêverie. Mar. 14 jan. 10h\, 14h30 (séances scolaires) et 19h Mer. 15 jan. 10h (séance scolaire) et 15h\, 19h Jeu. 16 jan. 10h et 14h30 (séances scolaires) Durée estimée 50min
URL:https://kids.art-de-vivre-a-laremoise.com/event/drift-a-la-derive/
LOCATION:Comédie de Reims\, 3 Chaussée Bocquaine\, Reims\, 51100\, France
CATEGORIES:Comédie de Reims
ATTACH;FMTTYPE=image/jpeg:https://kids.art-de-vivre-a-laremoise.com/wp-content/uploads/2024/08/Drift-©-Alban-Van-Wassenhave.jpg
END:VEVENT
BEGIN:VEVENT
DTSTART;VALUE=DATE:20250114
DTEND;VALUE=DATE:20250401
DTSTAMP:20260420T023815
CREATED:20250113T071539Z
LAST-MODIFIED:20250113T071648Z
UID:673-1736812800-1743465599@kids.art-de-vivre-a-laremoise.com
SUMMARY:Opération MUSÉES GRATUITS
DESCRIPTION:Jusqu’au 31 mars 2025 – Les musées sont GRATUITS ! \nL’occasion idéale pour emmener vos KIDS visiter les musées de Reims. La gratuité permet d’initier toute la famille à la visite en musée. Au musée Saint Remi\, le monde de Clovis permet aux enfants de s’immerger dans le monde moyenâgeux des caroligiens. \nToutes les infos sont ici https://www.reims.fr/a-la-une/une/les-musees-municipaux-de-reims-gratuits-jusqua-fin-mars \nLes musées Saint Remi\, de la Reddition\, le musée-hôtel Le Vergeur – maison Hugues Krafft et le Fort de la Pompelle seront gratuits du 2 janvier au 31 mars 2025 inclus\, pour tous les visiteurs.
URL:https://kids.art-de-vivre-a-laremoise.com/event/operation-musees-gratuits/
CATEGORIES:Musées de Reims
ATTACH;FMTTYPE=image/jpeg:https://kids.art-de-vivre-a-laremoise.com/wp-content/uploads/2025/01/csm_MuseesGratuits-1920x1080_6972569e5c.jpg
END:VEVENT
END:VCALENDAR