BEGIN:VCALENDAR
VERSION:2.0
PRODID:-//Art de Vivre Kids - ECPv6.7.1//NONSGML v1.0//EN
CALSCALE:GREGORIAN
METHOD:PUBLISH
X-WR-CALNAME:Art de Vivre Kids
X-ORIGINAL-URL:https://kids.art-de-vivre-a-laremoise.com
X-WR-CALDESC:Évènements pour Art de Vivre Kids
REFRESH-INTERVAL;VALUE=DURATION:PT1H
X-Robots-Tag:noindex
X-PUBLISHED-TTL:PT1H
BEGIN:VTIMEZONE
TZID:Europe/Paris
BEGIN:DAYLIGHT
TZOFFSETFROM:+0100
TZOFFSETTO:+0200
TZNAME:CEST
DTSTART:20250330T010000
END:DAYLIGHT
BEGIN:STANDARD
TZOFFSETFROM:+0200
TZOFFSETTO:+0100
TZNAME:CET
DTSTART:20251026T010000
END:STANDARD
END:VTIMEZONE
BEGIN:VEVENT
DTSTART;VALUE=DATE:20250408
DTEND;VALUE=DATE:20250629
DTSTAMP:20260419T210633
CREATED:20250412T063340Z
LAST-MODIFIED:20250412T063502Z
UID:750-1744070400-1751155199@kids.art-de-vivre-a-laremoise.com
SUMMARY:La Forêt -
DESCRIPTION:Dans le cadre de la manifestation « La forêt » organisée par les bibliothèques d’avril à juin 2025 \nDes expositions\, des animations\, des ateliers\, des jeux\, des conférences à retrouver dans le réseau des Bibliothèques de Reims \nA retrouver aussi une superbe expo à la Bibliotheque Carnegie – cliquez ici pour en savoir plus
URL:https://kids.art-de-vivre-a-laremoise.com/event/la-foret/
CATEGORIES:bibliotheque carnegie
ATTACH;FMTTYPE=image/jpeg:https://kids.art-de-vivre-a-laremoise.com/wp-content/uploads/2025/04/490105609_697479839300539_7437270438470685535_n.jpg
END:VEVENT
BEGIN:VEVENT
DTSTART;TZID=Europe/Paris:20250414T080000
DTEND;TZID=Europe/Paris:20250601T170000
DTSTAMP:20260419T210633
CREATED:20250402T160204Z
LAST-MODIFIED:20250402T160350Z
UID:726-1744617600-1748797200@kids.art-de-vivre-a-laremoise.com
SUMMARY:Des étoiles plein des yeux
DESCRIPTION:Le ciel vous fascine\, vous intrigue ? Alors bloquez votre agenda du 14 avril au 1er juin ! Vous avez rendez-vous dans 28 bibliothèques et médiathèques pour découvrir l’astronomie à travers 157 animations.\n\nLe festival « Des étoiles plein les yeux »\, c’est le nouveau festival scientifique organisée et coordonné par la bibliothèque départementale\, qui fait la part belle aux connaissances mais aussi au rêve et à l’imaginaire.\n\nAu programme : des conférences animées par des astrophysiciennes\, médiateur scientifique et membres d’associations d’astronomie locales\, des expositions\, des ateliers scientifiques\, numériques ou créatifs\, des rencontres avec des passionné(e)s\, des ciné-débats et des projections de films documentaires ou de fiction. Sans oublier des spectacles et un concert à la belle étoile.\n\nUn festival d’astronomie sans observation du ciel ne serait pas complet. Alors les associations d’astronomie locales se sont mobilisées pour vous offrir une vue imprenable et en direct sur les étoiles\, à l’aide de leur matériel d’observation. Le Planétarium de Reims installera son planétarium itinérant dans l’une des médiathèques partenaires pour faire voyager le public dans le système solaire.
URL:https://kids.art-de-vivre-a-laremoise.com/event/des-etoiles-plein-des-yeux/
ATTACH;FMTTYPE=image/jpeg:https://kids.art-de-vivre-a-laremoise.com/wp-content/uploads/2025/04/festival-d-astronomie-marne.jpg
END:VEVENT
BEGIN:VEVENT
DTSTART;TZID=Europe/Paris:20250522T080000
DTEND;TZID=Europe/Paris:20250525T170000
DTSTAMP:20260419T210633
CREATED:20250514T104022Z
LAST-MODIFIED:20250514T104229Z
UID:753-1747900800-1748192400@kids.art-de-vivre-a-laremoise.com
SUMMARY:FESTIVAL ORBIS PICTUS vol.16
DESCRIPTION:Du 22 au 25 mai 2025\, au quartier Forum à Reims. \nChaque année\, le festival Orbis Pictus convie un public d’initiés et d’amateurs\, à la découverte d’artistes qui bousculent\, animent et réinventent le paysage marionnettique contemporain. \n2025 ! Orbis Pictus pour sa 16ème édition s’aventure de nouveau dans le Quartier Forum\, cœur historique de Reims-Durocortorum où seront joués ici et là\, plus de quinze spectacles de compagnies nationales et internationales. \nDe la scène du Cryptoportique\, souterrain antique habité de multiples présences\, en passant par\, l’Hôtel de la Salle et le Musée-Hôtel le Vergeur et son jardin\, jusqu’au Cellier\, le rythme de la balade ou de la course folle est comme toujours\, intense. \nCet événement\, co-dirigé par Angélique Friant et David Girondin Moab et porté par l’équipe du Jardin Parallèle\, défend les formes brèves\, expérimentales et s’attache à vous faire découvrir des spectacles rares et parfois inédits. \nIllustration : Julie Faure-Brac
URL:https://kids.art-de-vivre-a-laremoise.com/event/festival-orbis-pictus-vol-16/
ATTACH;FMTTYPE=image/png:https://kids.art-de-vivre-a-laremoise.com/wp-content/uploads/2025/05/Orbis-Pictus-2025.png
END:VEVENT
END:VCALENDAR