BEGIN:VCALENDAR
VERSION:2.0
PRODID:-//Art de Vivre Kids - ECPv6.7.1//NONSGML v1.0//EN
CALSCALE:GREGORIAN
METHOD:PUBLISH
X-WR-CALNAME:Art de Vivre Kids
X-ORIGINAL-URL:https://kids.art-de-vivre-a-laremoise.com
X-WR-CALDESC:Évènements pour Art de Vivre Kids
REFRESH-INTERVAL;VALUE=DURATION:PT1H
X-Robots-Tag:noindex
X-PUBLISHED-TTL:PT1H
BEGIN:VTIMEZONE
TZID:Europe/Paris
BEGIN:DAYLIGHT
TZOFFSETFROM:+0100
TZOFFSETTO:+0200
TZNAME:CEST
DTSTART:20240331T010000
END:DAYLIGHT
BEGIN:STANDARD
TZOFFSETFROM:+0200
TZOFFSETTO:+0100
TZNAME:CET
DTSTART:20241027T010000
END:STANDARD
END:VTIMEZONE
BEGIN:VEVENT
DTSTART;TZID=Europe/Paris:20241108T190000
DTEND;TZID=Europe/Paris:20241108T203000
DTSTAMP:20260420T083923
CREATED:20240830T142959Z
LAST-MODIFIED:20240903T150226Z
UID:165-1731092400-1731097800@kids.art-de-vivre-a-laremoise.com
SUMMARY:Foxes
DESCRIPTION:Les adultes sont des enfants qui ont grandi mais qui peuvent retrouver la magie perdue en route\, nous rappelle la Cie Renards / Effet Mer dans ce spectacle vitaminé où l’adolescence est une grande aventure ! Quatre inconnus se réfugient par hasard au même endroit après que chacun ait fait un pas de côté dans sa vie. Ils imaginent ce qu’aurait pu être leur rencontre si elle avait eu lieu 20 ans plus tôt… Dans ce spectacle qui interpelle le public\, il est question de passage de l’enfance à l’adolescence puis à l’âge adulte. Mais aussi d’illusions perdues\, d’amitié\, de rêves à reconstruire et de joie retrouvée
URL:https://kids.art-de-vivre-a-laremoise.com/event/foxes/
LOCATION:Le carré blanc\, Rue de la Croix Cordier\,\, Tinqueux\, 51430\, France
CATEGORIES:Le carré blanc
ATTACH;FMTTYPE=image/jpeg:https://kids.art-de-vivre-a-laremoise.com/wp-content/uploads/2024/08/2024-11-08-Foxes.jpg
END:VEVENT
END:VCALENDAR