BEGIN:VCALENDAR
VERSION:2.0
PRODID:-//Art de Vivre Kids - ECPv6.7.1//NONSGML v1.0//EN
CALSCALE:GREGORIAN
METHOD:PUBLISH
X-WR-CALNAME:Art de Vivre Kids
X-ORIGINAL-URL:https://kids.art-de-vivre-a-laremoise.com
X-WR-CALDESC:Évènements pour Art de Vivre Kids
REFRESH-INTERVAL;VALUE=DURATION:PT1H
X-Robots-Tag:noindex
X-PUBLISHED-TTL:PT1H
BEGIN:VTIMEZONE
TZID:Europe/Paris
BEGIN:DAYLIGHT
TZOFFSETFROM:+0100
TZOFFSETTO:+0200
TZNAME:CEST
DTSTART:20240331T010000
END:DAYLIGHT
BEGIN:STANDARD
TZOFFSETFROM:+0200
TZOFFSETTO:+0100
TZNAME:CET
DTSTART:20241027T010000
END:STANDARD
END:VTIMEZONE
BEGIN:VEVENT
DTSTART;VALUE=DATE:20240907
DTEND;VALUE=DATE:20240908
DTSTAMP:20260420T064933
CREATED:20240830T141701Z
LAST-MODIFIED:20241023T092123Z
UID:151-1725667200-1725753599@kids.art-de-vivre-a-laremoise.com
SUMMARY:Goûter numérique
DESCRIPTION:Pour découvrir les outils numériques de façon ludique. De la 3D à la réalité virtuelle en passant par la robotique et l’électronique\, chaque enfant crée en intelligence collective. \nAtelier de 3h les mercredis
URL:https://kids.art-de-vivre-a-laremoise.com/event/gouter-numerique/
LOCATION:Saint-Ex Culture Numérique\, Chaussée Bocquaine\, Esplanade André Malraux\, Reims\, 51100\, France
CATEGORIES:Saint-Ex
ATTACH;FMTTYPE=image/jpeg:https://kids.art-de-vivre-a-laremoise.com/wp-content/uploads/2024/08/IMG_3076.jpg
END:VEVENT
BEGIN:VEVENT
DTSTART;VALUE=DATE:20240921
DTEND;VALUE=DATE:20240922
DTSTAMP:20260420T064933
CREATED:20240830T141923Z
LAST-MODIFIED:20240903T150659Z
UID:153-1726876800-1726963199@kids.art-de-vivre-a-laremoise.com
SUMMARY:Anniversaire numérique
DESCRIPTION:Offrez à vos enfants un moment unique et ludique. Au programme\, découverte des jeux vidéos MADE IN SAINT-EX comme «l’attaque de brocolis» où les enfants sont en équilibre sur une planche pour se déplacer dans le jeu\, danse\, création de musique\, assemblage de toupies en bois et défis… Vous apportez le gâteau\, on s’occupe des invitations\, de la boisson et des surprises.
URL:https://kids.art-de-vivre-a-laremoise.com/event/anniversaire-numerique/
LOCATION:Saint-Ex Culture Numérique\, Chaussée Bocquaine\, Esplanade André Malraux\, Reims\, 51100\, France
CATEGORIES:Saint-Ex
ATTACH;FMTTYPE=image/jpeg:https://kids.art-de-vivre-a-laremoise.com/wp-content/uploads/2024/08/DSC02717-1.jpg
END:VEVENT
BEGIN:VEVENT
DTSTART;TZID=Europe/Paris:20240922T140000
DTEND;TZID=Europe/Paris:20240922T180000
DTSTAMP:20260420T064933
CREATED:20240830T122721Z
LAST-MODIFIED:20240903T150646Z
UID:18-1727013600-1727028000@kids.art-de-vivre-a-laremoise.com
SUMMARY:FOLIE DOUCE #12
DESCRIPTION:La Cartonnerie vous propose de prolonger l’été le temps d’un dimanche en famille à l’occasion de cette nouvelle Folie Douce ! Une fois de plus\, la salle se transformera durant un après-midi en un immense terrain de jeux pour les enfants et leurs parents. Au programme pour cette édition : ateliers musicaux\, dancefloor\, initiations sportives et DJ set pour ambiancer petits et grands. Pas le temps de s’ennuyer !
URL:https://kids.art-de-vivre-a-laremoise.com/event/folie-douce-12/
LOCATION:La Cartonnerie\, 84 Rue du Dr Lemoine\, Reims\, 51100
CATEGORIES:La Cartonnerie
ATTACH;FMTTYPE=image/jpeg:https://kids.art-de-vivre-a-laremoise.com/wp-content/uploads/2024/08/POST-Folie-Douce-12.jpeg
END:VEVENT
END:VCALENDAR