BEGIN:VCALENDAR
VERSION:2.0
PRODID:-//Art de Vivre Kids - ECPv6.7.1//NONSGML v1.0//EN
CALSCALE:GREGORIAN
METHOD:PUBLISH
X-ORIGINAL-URL:https://kids.art-de-vivre-a-laremoise.com
X-WR-CALDESC:Évènements pour Art de Vivre Kids
REFRESH-INTERVAL;VALUE=DURATION:PT1H
X-Robots-Tag:noindex
X-PUBLISHED-TTL:PT1H
BEGIN:VTIMEZONE
TZID:Europe/Paris
BEGIN:DAYLIGHT
TZOFFSETFROM:+0100
TZOFFSETTO:+0200
TZNAME:CEST
DTSTART:20240331T010000
END:DAYLIGHT
BEGIN:STANDARD
TZOFFSETFROM:+0200
TZOFFSETTO:+0100
TZNAME:CET
DTSTART:20241027T010000
END:STANDARD
END:VTIMEZONE
BEGIN:VEVENT
DTSTART;VALUE=DATE:20241001
DTEND;VALUE=DATE:20241002
DTSTAMP:20260420T052631
CREATED:20240830T142047Z
LAST-MODIFIED:20240903T150628Z
UID:156-1727740800-1727827199@kids.art-de-vivre-a-laremoise.com
SUMMARY:Balade sonore géolocalisée
DESCRIPTION:«Une conversation» est une fiction sonore géolocalisée qui invite à suivre deux femmes\, Hélène et Lucie\, au fil de leur déambulation rémoise à la recherche d’un objet perdu. \nUn QRcode vers l’application se trouve sur l’esplanade.
URL:https://kids.art-de-vivre-a-laremoise.com/event/balade-sonore-geolocalisee/
LOCATION:Saint-Ex Culture Numérique\, Chaussée Bocquaine\, Esplanade André Malraux\, Reims\, 51100\, France
CATEGORIES:Saint-Ex
END:VEVENT
BEGIN:VEVENT
DTSTART;TZID=Europe/Paris:20241004T190000
DTEND;TZID=Europe/Paris:20241004T200000
DTSTAMP:20260420T052631
CREATED:20240830T142625Z
LAST-MODIFIED:20240903T150616Z
UID:163-1728068400-1728072000@kids.art-de-vivre-a-laremoise.com
SUMMARY:La Balle Rouge
DESCRIPTION:Opéra d’objets basé sur le visuel et l’émotion\, La Balle Rouge rappellera d’heureux souvenirs à ceux qui l’ont vu il y a 10 ans et enchantera un nouveau public par son approche sensible de l’amour. Il y a l’histoire. Celle d’un amour que l’on voit naître et s’épanouir\, de la rencontre à l’arrivée d’un enfant. Celle de l’enfant que l’on voit grandir et s’accrocher à une balle rouge quand le couple se désunit. Et il y a l’art de raconter l’histoire. Avec des personnages émouvants dont on oublie qu’ils sont de simples formes en mousse. Avec un accordéoniste dont les notes remplacent les mots.
URL:https://kids.art-de-vivre-a-laremoise.com/event/la-balle-rouge/
LOCATION:Le carré blanc\, Rue de la Croix Cordier\,\, Tinqueux\, 51430\, France
CATEGORIES:Le carré blanc
ATTACH;FMTTYPE=image/jpeg:https://kids.art-de-vivre-a-laremoise.com/wp-content/uploads/2024/08/2024-10-04-La-balle-rouge.jpg
END:VEVENT
BEGIN:VEVENT
DTSTART;VALUE=DATE:20241009
DTEND;VALUE=DATE:20241011
DTSTAMP:20260420T052631
CREATED:20240830T125447Z
LAST-MODIFIED:20240903T150602Z
UID:33-1728432000-1728604799@kids.art-de-vivre-a-laremoise.com
SUMMARY:Traverser les murs opaques
DESCRIPTION:Entrelaçant cirque et poésie\, la fildefériste et poète Marion Collé livre ses rêves de soulèvement dans une création pour cinq circassiennes oeuvrant dans l’aérien. Sur le fil et dans les airs\, un spectaclemanifeste qui invite à réenchanter le monde.
URL:https://kids.art-de-vivre-a-laremoise.com/event/traverser-les-murs-opaques/
LOCATION:Manège\, 2 Bd du Général Leclerc\, Reims\, 51724\, France
CATEGORIES:La Manège
ATTACH;FMTTYPE=image/jpeg:https://kids.art-de-vivre-a-laremoise.com/wp-content/uploads/2024/08/Traverser_les_murs_©-Philippe-Cibille_4.jpg
END:VEVENT
BEGIN:VEVENT
DTSTART;TZID=Europe/Paris:20241015T094500
DTEND;TZID=Europe/Paris:20241015T140000
DTSTAMP:20260420T052631
CREATED:20240830T124201Z
LAST-MODIFIED:20240903T150546Z
UID:27-1728985500-1729000800@kids.art-de-vivre-a-laremoise.com
SUMMARY:PEACE & LOBE
DESCRIPTION:Destinés aux scolaires de la 4e à la terminale\, les concerts pédagogiques Peace & Lobe ont pour but de sensibiliser les plus jeunes à l’histoire de la musique et aux risques auditifs. En Champagne- Ardenne\, c’est le groupe Ouïe Fi qui a pour mission de présenter ces thématiques aux adolescents au cours d’un spectacle ludique et pédagogique d’une heure. Créé à l’initiative des adhérents du Polca (Pôle régional musiques actuelles de Champagne- Ardenne)\, ce Big Band éclectique à la connexion facile entrechoque les styles musicaux et navigue dans les grandes lignes de l’histoire de la musique. Leur objectif : vous faire entendre les choses différemment ! \nDurée 1h40 3€ par élève – Gratuit pour les accompagnateurs
URL:https://kids.art-de-vivre-a-laremoise.com/event/peace-lobe/
LOCATION:La Cartonnerie\, 84 Rue du Dr Lemoine\, Reims\, 51100
CATEGORIES:La Cartonnerie
ATTACH;FMTTYPE=image/jpeg:https://kids.art-de-vivre-a-laremoise.com/wp-content/uploads/2024/08/PeaceLobe-OuieFiScene.jpeg
END:VEVENT
BEGIN:VEVENT
DTSTART;TZID=Europe/Paris:20241018T190000
DTEND;TZID=Europe/Paris:20241018T200000
DTSTAMP:20260420T052631
CREATED:20240830T144146Z
LAST-MODIFIED:20240903T150529Z
UID:167-1729278000-1729281600@kids.art-de-vivre-a-laremoise.com
SUMMARY:Esencial
DESCRIPTION:L’essentiel\, pour cette compagnie espagnole voyageuse\, n’est-il pas de piquer l’imagination ? Ce qu’elle fait magnifiquement avec ce spectacle de haute volée où cirque et danse se renvoient la balle… Comme le jeu « Arc En Ciel » de Waldorf dont elle s’inspire\, la nouvelle création de Vaivén Circo repose sur un savant travail d’équilibre. Entre des arcs géants. Entre des disciplines. Entre des artistes. Acrobates\, danseurs\, jongleurs\, tous les cinq empilent\, balancent\, jouent\, rêvent\, voyagent\, apportant dans notre monde en mouvement leurs propres envolées\, aussi originales qu’impressionnantes.
URL:https://kids.art-de-vivre-a-laremoise.com/event/esencial/
LOCATION:Le carré blanc\, Rue de la Croix Cordier\,\, Tinqueux\, 51430\, France
CATEGORIES:Le carré blanc
ATTACH;FMTTYPE=image/jpeg:https://kids.art-de-vivre-a-laremoise.com/wp-content/uploads/2024/08/2024-10-18-Esencial.jpg
END:VEVENT
BEGIN:VEVENT
DTSTART;TZID=Europe/Paris:20241019T140000
DTEND;TZID=Europe/Paris:20241020T171500
DTSTAMP:20260420T052631
CREATED:20241004T120458Z
LAST-MODIFIED:20241004T120458Z
UID:627-1729346400-1729444500@kids.art-de-vivre-a-laremoise.com
SUMMARY:Monument jeu d'enfant
DESCRIPTION:Palais du Tau . Reims \nÀ la découverte du quartier cathédral \nau Moyen Âge ! \n19 et 20 octobre de 14 h à 17 h 15 \n(2 séances : de 14 h . 15 h 15 ou de 15 h 30 . 17 h 15) \nLe quartier cathédral au Moyen-Âge ! \nLe quartier cathédral ? Quésaco ? Au Moyen-Âge\, la cathédrale n’est pas un monument isolé : elle fait partie d’un véritable quartier\, dans lequel sont regroupés des lieux de culte\, des bâtiments de la vie commune et des habitations individuelles. Mais comment la vie s’organisait-elle ? C’est ce que nous allons découvrir lors de ce week-end en famille. \nAu programme : \n•Bâtisseur de cathédrale d’un jour \nVisite-atelier à partir de 8 ans \nLa cathédrale de Reims est reconnue comme l’un des plus grands exemples d’architecture gothique en France\, tant pour son architecture que pour sa statuaire qui ne compte pas moins de 2 300 statues ! Après une visite des extérieurs de la cathédrale\, place à la pratique avec un jeu de construction ! Arcs-boutants et clefs de voûtes n’auront plus de secret pour vous… \n•Avec le sourire… \nAtelier à partir de 4 ans \nParmi toutes les statues présentes sur la cathédrale\, une est particulièrement célèbre : l’Ange au Sourire ! Mais savez-vous pourquoi l’Ange au sourire sourit ? C’est ce que vous allez découvrir lors de cet atelier… Après une présentation officielle\, vous serez invités à confectionner votre propre ange. De quoi donner le sourire aux petits comme aux plus grands ! \n•À table ! \nAnimations par la « Compagnie médiévale des Sacres » à partir de 6 ans \nDu repas pris en commun\, à la présentation et au service des mets\, de la décoration de la table\, des façons de recevoir les hôtes\, des manières de table\, du service\, des menus…\, vous saurez tout sur les arts de la table au Moyen-Âge. \n•De la table à l’assiette… \nAtelier à partir de 4 ans \nÀ la fois proche et lointaine de nos habitudes alimentaires\, la cuisine médiévale recèle des mystères et des saveurs originales pour nos palais actuels. Découvrez comment les hommes du Moyen Âge cuisinaient et appréhendaient leur nourriture. Découverte des sens autour des épices et plantes médiévales. \n•2 séances : de 14h à 15h15 OU de 15h30 à 17h15 \n•Jauge limitée \n•Réservations obligatoires sur www.palais-du-tau.fr \nPrix pour l’adulte 7.50 €\nPrésence d’un adulte obligatoire !
URL:https://kids.art-de-vivre-a-laremoise.com/event/monument-jeu-denfant/
LOCATION:Palais du Tau\, 2 Pl. du Cardinal Luçon\, 51100 Reims\, Reims\, 51100\, France
CATEGORIES:Palais du Tau . Reims
ATTACH;FMTTYPE=image/png:https://kids.art-de-vivre-a-laremoise.com/wp-content/uploads/2024/10/Capture-decran-2024-10-04-a-13.51.35.png
END:VEVENT
BEGIN:VEVENT
DTSTART;VALUE=DATE:20241021
DTEND;VALUE=DATE:20241026
DTSTAMP:20260420T052631
CREATED:20240830T142350Z
LAST-MODIFIED:20240903T150444Z
UID:160-1729468800-1729900799@kids.art-de-vivre-a-laremoise.com
SUMMARY:Vacances digitales
DESCRIPTION:Les enfants reçoivent à Saint-Ex ! Ils vont construire une visite de l’exposition à leur façon. En se déplaçant dans l’espace\, en chantant\, en dessinant\, en mimant\, en s’exprimant et surtout en s’amusant. Utilisation des outils numériques (ordinateurs\, tablettes\, caméra\, découpeuse laser\, imprimante 3D…)
URL:https://kids.art-de-vivre-a-laremoise.com/event/vacances-digitales/
LOCATION:Saint-Ex Culture Numérique\, Chaussée Bocquaine\, Esplanade André Malraux\, Reims\, 51100\, France
CATEGORIES:Saint-Ex
ATTACH;FMTTYPE=image/png:https://kids.art-de-vivre-a-laremoise.com/wp-content/uploads/2024/08/Capture-decran-2024-06-26-a-10.37.53.png
END:VEVENT
BEGIN:VEVENT
DTSTART;TZID=Europe/Paris:20241021T133000
DTEND;TZID=Europe/Paris:20241025T173000
DTSTAMP:20260420T052631
CREATED:20240830T150133Z
LAST-MODIFIED:20240903T150424Z
UID:184-1729517400-1729877400@kids.art-de-vivre-a-laremoise.com
SUMMARY:ATELIER BD-MANGA
DESCRIPTION:La Mccv propose aux jeunes de 12 à 17 ans de découvrir l’univers de la bande dessinée de l’intérieur en leur permettant de créer eux-mêmes leurs planches. Pendant cinq séances\, les jeunes seront accompagnés dans toutes les étapes de travail d’un auteur de BD\, de l’écriture du scénario à la colorisation. La MCCV dans le futur\, tel est le sujet de notre concours RDVBD#10. L’atelier commencera par une courte visite de l’établissement pour découvrir son histoire. \n21 octobre de 13h30 à 17h30\n22 au 25 octobre de 14h à 17h\n10 € pour les 5 séances de travail
URL:https://kids.art-de-vivre-a-laremoise.com/event/atelier-bd-manga/
LOCATION:Maison Commune du Chemin Vert\, 11 Pl. du 11 Novembre\, Reims\, 51100\, France
CATEGORIES:Maison commune du chemin vert Reims
ATTACH;FMTTYPE=image/jpeg:https://kids.art-de-vivre-a-laremoise.com/wp-content/uploads/2024/08/36.-Atelier-BD-Manga.jpeg
END:VEVENT
BEGIN:VEVENT
DTSTART;TZID=Europe/Paris:20241022T100000
DTEND;TZID=Europe/Paris:20241022T140000
DTSTAMP:20260420T052631
CREATED:20240830T123901Z
LAST-MODIFIED:20240903T150413Z
UID:25-1729591200-1729605600@kids.art-de-vivre-a-laremoise.com
SUMMARY:CARTO KIDZ
DESCRIPTION:Un ciné-concert où chaque représentation est vraiment unique ! Sapritch (aux claviers) et M. Lugué (à la guitare) débutent un ciné-concert. À l’écran est projeté un film\, réalisé par Sapritch. Tous deux jouent en direct la musique du film\, dans la tradition des films muets du début du XXe siècle. Rapidement\, Sapritch stoppe la représentation et avoue aux spectateurs qu’il n’a pas eu le temps de terminer la bande sonore de son film… Incrédule face à cette nouvelle\, M. Lugué entame une lutte musicale contre Sapritch\, qui sollicite le public pour bruiter son film : pluie\, tonnerre\, chevaux\, bruit de sabots\, foule\, ou encore doublage de voix… Nos jeunes spectateurs arriveront-ils à aider les musiciens et sauver la projection ? \n5€ par enfant\n8€ par adulte
URL:https://kids.art-de-vivre-a-laremoise.com/event/carto-kidz/
LOCATION:La Cartonnerie\, 84 Rue du Dr Lemoine\, Reims\, 51100
CATEGORIES:La Cartonnerie
ATTACH;FMTTYPE=image/jpeg:https://kids.art-de-vivre-a-laremoise.com/wp-content/uploads/2024/08/cineconcert.jpeg
END:VEVENT
BEGIN:VEVENT
DTSTART;TZID=Europe/Paris:20241025T100000
DTEND;TZID=Europe/Paris:20241026T120000
DTSTAMP:20260420T052631
CREATED:20240830T144922Z
LAST-MODIFIED:20240903T150402Z
UID:171-1729850400-1729944000@kids.art-de-vivre-a-laremoise.com
SUMMARY:ET OP’ !
DESCRIPTION:Même les bébés aiment l’opéra ! Et Op’ ! est un moment lyrique dédié aux enfants de six mois à trois ans. Ce parcours découverte propose une immersion auditive\, sensorielle et visuelle dans l’univers de l’opéra\, avec des airs connus et des musiques à redécouvrir. Conçu pour offrir un espace chaleureux et confortable pour les enfants et leurs accompagnants\, Et Op’ ! permet aux jeunes spectateurs de découvrir des chanteurs et des instruments. Un éveil délicat à la musique vivante\, empli de bienveillance\, de joie et de sensibilité. \nSam. 26\, 27 octobre – 1er déc 10h\, 11h
URL:https://kids.art-de-vivre-a-laremoise.com/event/et-op/
LOCATION:Opéra de Reims\, 1 Rue de Vesle\, Reims\, 51100
CATEGORIES:Opéra de Reims
ATTACH;FMTTYPE=image/png:https://kids.art-de-vivre-a-laremoise.com/wp-content/uploads/2024/08/Capture-decran-2024-07-01-a-16.27.27.png
END:VEVENT
BEGIN:VEVENT
DTSTART;TZID=Europe/Paris:20241028T140000
DTEND;TZID=Europe/Paris:20241028T180000
DTSTAMP:20260420T052631
CREATED:20240830T150653Z
LAST-MODIFIED:20240903T150342Z
UID:186-1730124000-1730138400@kids.art-de-vivre-a-laremoise.com
SUMMARY:ATELIER CABARET ORIFIQUE
DESCRIPTION:La Mccv et L’opéra de Reims proposent un stage de comédie musicale pour les 10/14 ans. 4 jours pour découvrir la discipline sur le thème d’Halloween et créer un grand numéro de cabaret horrifique où les créatures étranges chantent et dansent. Pour frissonner de terreur et de plaisir. \nLundi 28 au jeudi 31 octobre de 14 h à 18 h Jeudi 31 novembre à 18 h présentation publique de l’atelier 8 € pour les 4 séances de travail
URL:https://kids.art-de-vivre-a-laremoise.com/event/atelier-cabaret-orifique/
LOCATION:Maison Commune du Chemin Vert\, 11 Pl. du 11 Novembre\, Reims\, 51100\, France
CATEGORIES:Maison commune du chemin vert Reims
ATTACH;FMTTYPE=image/jpeg:https://kids.art-de-vivre-a-laremoise.com/wp-content/uploads/2024/08/37.Cabaret-ORrifique.jpeg
END:VEVENT
BEGIN:VEVENT
DTSTART;TZID=Europe/Paris:20241031T180000
DTEND;TZID=Europe/Paris:20241031T180000
DTSTAMP:20260420T052631
CREATED:20240830T145307Z
LAST-MODIFIED:20240903T150324Z
UID:176-1730397600-1730397600@kids.art-de-vivre-a-laremoise.com
SUMMARY:Concert fantôme
DESCRIPTION:Les vieilles chanteuses mortes sont de sortie ! Les voix du passé quittent le début du XXe siècle pour hanter l’Opéra. Les machines parlantes dévoilent leur magie\, faisant dialoguer les artistes d’antan avec les vivants. Les vedettes du siècle dernier surgissent\, s’animent et revivent devant nous ! Une soirée pleine de surprises et de découvertes inattendues ! \nDurée 1h 19€ -50% pour les -18 ans et étudiants Dès 12 ans.
URL:https://kids.art-de-vivre-a-laremoise.com/event/concert-fantome/
LOCATION:Opéra de Reims\, 1 Rue de Vesle\, Reims\, 51100
CATEGORIES:Opéra de Reims
END:VEVENT
BEGIN:VEVENT
DTSTART;TZID=Europe/Paris:20241031T190000
DTEND;TZID=Europe/Paris:20241031T200000
DTSTAMP:20260420T052631
CREATED:20240830T145421Z
LAST-MODIFIED:20240903T150300Z
UID:178-1730401200-1730404800@kids.art-de-vivre-a-laremoise.com
SUMMARY:Halloween
DESCRIPTION:Par ici les bonbecs ! Revêtez vos plus horrifiques costumes\, mettez vos masques terrifiants\, maquillez-vous à faire peur… Ce soir\, c’est l’occasion d’être un Monstre ! Venez vous divertir en famille\, boire un verre de sanguine\, agiter vos membres dans tous les sens… toutes les danses sont permises ! Un joyeux sabbat pour toutes les créatures de 7 à 377 ans !
URL:https://kids.art-de-vivre-a-laremoise.com/event/halloween/
LOCATION:Opéra de Reims\, 1 Rue de Vesle\, Reims\, 51100
CATEGORIES:Opéra de Reims
END:VEVENT
END:VCALENDAR