BEGIN:VCALENDAR
VERSION:2.0
PRODID:-//Art de Vivre Kids - ECPv6.7.1//NONSGML v1.0//EN
CALSCALE:GREGORIAN
METHOD:PUBLISH
X-WR-CALNAME:Art de Vivre Kids
X-ORIGINAL-URL:https://kids.art-de-vivre-a-laremoise.com
X-WR-CALDESC:Évènements pour Art de Vivre Kids
REFRESH-INTERVAL;VALUE=DURATION:PT1H
X-Robots-Tag:noindex
X-PUBLISHED-TTL:PT1H
BEGIN:VTIMEZONE
TZID:Europe/Paris
BEGIN:DAYLIGHT
TZOFFSETFROM:+0100
TZOFFSETTO:+0200
TZNAME:CEST
DTSTART:20240331T010000
END:DAYLIGHT
BEGIN:STANDARD
TZOFFSETFROM:+0200
TZOFFSETTO:+0100
TZNAME:CET
DTSTART:20241027T010000
END:STANDARD
END:VTIMEZONE
BEGIN:VEVENT
DTSTART;TZID=Europe/Paris:20241109T100000
DTEND;TZID=Europe/Paris:20241207T170000
DTSTAMP:20260420T023704
CREATED:20240830T142218Z
LAST-MODIFIED:20240903T150214Z
UID:158-1731146400-1733590800@kids.art-de-vivre-a-laremoise.com
SUMMARY:Visites guidées des différentes expositions
DESCRIPTION:A 10h\, venez découvrir des oeuvres avec vos tout petits (à partir de 18 mois) et manipuler des jeux réalisés spécialement pour eux ! A 15h\, venez explorer l’exposition en famille grâce à des visites originales ! \nRéservation auprès de charlotte.deletang@saintex-reims.com ou au 06 12 37 18 40 \nSAMEDIS 9 novembre\,23 novembre\, 7 décembre.
URL:https://kids.art-de-vivre-a-laremoise.com/event/visites-guidees-des-differentes-expositions/
LOCATION:Saint-Ex Culture Numérique\, Chaussée Bocquaine\, Esplanade André Malraux\, Reims\, 51100\, France
CATEGORIES:Saint-Ex
ATTACH;FMTTYPE=image/jpeg:https://kids.art-de-vivre-a-laremoise.com/wp-content/uploads/2024/08/20231021_103223-rotated.jpg
END:VEVENT
BEGIN:VEVENT
DTSTART;TZID=Europe/Paris:20241208T140000
DTEND;TZID=Europe/Paris:20241208T180000
DTSTAMP:20260420T023704
CREATED:20240830T124716Z
LAST-MODIFIED:20240903T150043Z
UID:29-1733666400-1733680800@kids.art-de-vivre-a-laremoise.com
SUMMARY:FOLIE DOUCE #13
DESCRIPTION:L’hiver est là\, et la Cartonnerie se transformera une fois de plus le temps d’un après-midi en un immense terrain de jeux pour les enfants et leurs parents. Du Floor jusqu’au Club\, nos musiciens en herbe n’auront assurément pas le temps de s’ennuyer ! Au programme pour cette édition : des ateliers créatifs et musicaux\, des espaces de jeux\, un dancefloor\, une boum endiablée\, et de quoi grignoter avec Holy Shot et ses gourmandises sucrées !
URL:https://kids.art-de-vivre-a-laremoise.com/event/folie-douce-13/
LOCATION:La Cartonnerie\, 84 Rue du Dr Lemoine\, Reims\, 51100
CATEGORIES:La Cartonnerie
ATTACH;FMTTYPE=image/jpeg:https://kids.art-de-vivre-a-laremoise.com/wp-content/uploads/2024/08/POST-Folie-Douce-13.jpeg
END:VEVENT
BEGIN:VEVENT
DTSTART;VALUE=DATE:20241212
DTEND;VALUE=DATE:20241214
DTSTAMP:20260420T023704
CREATED:20240830T145936Z
LAST-MODIFIED:20240903T150028Z
UID:182-1733961600-1734134399@kids.art-de-vivre-a-laremoise.com
SUMMARY:Icare
DESCRIPTION:Icare\, 4 ans et demi\, a peur de tout et subit les moqueries de ses camarades. Un jour\, il brave les interdits paternels et prend des risques\, entamant une aventure hors du commun. Guillaume Barbot offre une lecture contemporaine du mythe d’Icare\, mêlant conte et réel. Le spectacle\, avec une circassienne incarnant Icare\, des ombres projetées et de la musique baroque\, crée un univers visuel fort et magique. C’est une invitation à explorer l’inconnu et à grandir en volant de ses propres ailes. \nDurée 55 min • 19€ -50% pour les -18 ans et étudiants En partenariat avec La Comédie – CDN de Reims
URL:https://kids.art-de-vivre-a-laremoise.com/event/icare/
LOCATION:Opéra de Reims\, 1 Rue de Vesle\, Reims\, 51100
CATEGORIES:Opéra de Reims
ATTACH;FMTTYPE=image/jpeg:https://kids.art-de-vivre-a-laremoise.com/wp-content/uploads/2024/08/ICARE-©-Cie-Coup-de-Poker-6.jpg
END:VEVENT
BEGIN:VEVENT
DTSTART;TZID=Europe/Paris:20241213T183000
DTEND;TZID=Europe/Paris:20241213T193000
DTSTAMP:20260420T023704
CREATED:20240830T144329Z
LAST-MODIFIED:20240903T150002Z
UID:169-1734114600-1734118200@kids.art-de-vivre-a-laremoise.com
SUMMARY:Sous la neige
DESCRIPTION:Les enfants ne sont pas à l’abri de vivre leurs premiers émerveillements et leurs premières émotions avec ce spectacle d’une grande beauté\, poétique et doux comme du papier de soie\, qui irradie. Si la neige n’est pas toujours au rendezvous de nos hivers\, elle est bien présente ici\, convoquée par deux comédiens sous la forme de flocons en papier de soie qui donnent matière à tous les rêves. Sous leurs mains\, sous la musique et la lumière\, la « neige » devient serpent ou poisson ou une mer qui se déchaîne… Et le papier\, peu à peu\, s’envole vers le public comme pour l’inviter lui aussi à jouer.
URL:https://kids.art-de-vivre-a-laremoise.com/event/sous-la-neige/
LOCATION:Le carré blanc\, Rue de la Croix Cordier\,\, Tinqueux\, 51430\, France
CATEGORIES:Le carré blanc
ATTACH;FMTTYPE=image/jpeg:https://kids.art-de-vivre-a-laremoise.com/wp-content/uploads/2024/08/2024-12-13-Sous-la-neige.jpg
END:VEVENT
BEGIN:VEVENT
DTSTART;TZID=Europe/Paris:20241221T143000
DTEND;TZID=Europe/Paris:20241221T163000
DTSTAMP:20260420T023704
CREATED:20240830T150934Z
LAST-MODIFIED:20240903T145945Z
UID:190-1734791400-1734798600@kids.art-de-vivre-a-laremoise.com
SUMMARY:TEA TIME POUR LE NOËL DES ENFANTS DU CHEMIN VERT ET D’AILLEURS
DESCRIPTION:Les grands et les petits sont invités à prendre le thé avec le duo de clowns de la Cie Mister Fred. L’heure de la pause est arrivée dans l’atelier. C’est le début d’une insolite chorégraphie de l’absurde au service du thé. Un moment de douce folie où le geste simple devient compliqué voire inutile. Le duo clownesque dévoile petit à petit son univers de manipulations d’objets entre jonglerie et magie à travers des scènes de complicité et de dualité. Et comme ce spectacle fêtera Noël\, quelque chose nous dit que le Père Noël risque de passer pour inviter les enfants à prendre une photo et un goûter en sa compagnie. \nDurée 2h Entrée libre dans la mesure des places disponibles
URL:https://kids.art-de-vivre-a-laremoise.com/event/tea-time-pour-le-noel-des-enfants-du-chemin-vert-et-dailleurs/
LOCATION:Maison Commune du Chemin Vert\, 11 Pl. du 11 Novembre\, Reims\, 51100\, France
CATEGORIES:Maison commune du chemin vert Reims
END:VEVENT
END:VCALENDAR