BEGIN:VCALENDAR
VERSION:2.0
PRODID:-//Art de Vivre Kids - ECPv6.7.1//NONSGML v1.0//EN
CALSCALE:GREGORIAN
METHOD:PUBLISH
X-WR-CALNAME:Art de Vivre Kids
X-ORIGINAL-URL:https://kids.art-de-vivre-a-laremoise.com
X-WR-CALDESC:Évènements pour Art de Vivre Kids
REFRESH-INTERVAL;VALUE=DURATION:PT1H
X-Robots-Tag:noindex
X-PUBLISHED-TTL:PT1H
BEGIN:VTIMEZONE
TZID:Europe/Paris
BEGIN:DAYLIGHT
TZOFFSETFROM:+0100
TZOFFSETTO:+0200
TZNAME:CEST
DTSTART:20250330T010000
END:DAYLIGHT
BEGIN:STANDARD
TZOFFSETFROM:+0200
TZOFFSETTO:+0100
TZNAME:CET
DTSTART:20251026T010000
END:STANDARD
END:VTIMEZONE
BEGIN:VEVENT
DTSTART;VALUE=DATE:20250114
DTEND;VALUE=DATE:20250401
DTSTAMP:20260419T223437
CREATED:20250113T071539Z
LAST-MODIFIED:20250113T071648Z
UID:673-1736812800-1743465599@kids.art-de-vivre-a-laremoise.com
SUMMARY:Opération MUSÉES GRATUITS
DESCRIPTION:Jusqu’au 31 mars 2025 – Les musées sont GRATUITS ! \nL’occasion idéale pour emmener vos KIDS visiter les musées de Reims. La gratuité permet d’initier toute la famille à la visite en musée. Au musée Saint Remi\, le monde de Clovis permet aux enfants de s’immerger dans le monde moyenâgeux des caroligiens. \nToutes les infos sont ici https://www.reims.fr/a-la-une/une/les-musees-municipaux-de-reims-gratuits-jusqua-fin-mars \nLes musées Saint Remi\, de la Reddition\, le musée-hôtel Le Vergeur – maison Hugues Krafft et le Fort de la Pompelle seront gratuits du 2 janvier au 31 mars 2025 inclus\, pour tous les visiteurs.
URL:https://kids.art-de-vivre-a-laremoise.com/event/operation-musees-gratuits/
CATEGORIES:Musées de Reims
ATTACH;FMTTYPE=image/jpeg:https://kids.art-de-vivre-a-laremoise.com/wp-content/uploads/2025/01/csm_MuseesGratuits-1920x1080_6972569e5c.jpg
END:VEVENT
BEGIN:VEVENT
DTSTART;TZID=Europe/Paris:20250318T080000
DTEND;TZID=Europe/Paris:20250524T170000
DTSTAMP:20260419T223437
CREATED:20250402T160933Z
LAST-MODIFIED:20250402T161052Z
UID:730-1742284800-1748106000@kids.art-de-vivre-a-laremoise.com
SUMMARY:EXPO COLLECTIVE #22
DESCRIPTION:En famille\, entre ami·es\, en groupe scolaire\, vous pourrez explorer pleinement la thématique de saison dans un parcours de six oeuvres. \nL’occasion\, autour d’une visite guidée\, d’échanger sur son expérience et sa rencontre avec l’oeuvre. \n  \nComme des choses fragiles\, impalpables qui nous entourent\, qui pourraient s’évanouir quand on s’approche ou au contraire qui pourraient apparaître comme un potentiel\, un possible\, un ailleurs. Le pouvoir de l’imagination et de la création\, des images conscientes ou inconscientes. \nLaissez-vous guider par les oeuvres présentées\, elles vont vous plonger dans d’autres mondes\, comme des portes ou des portails immatériels.
URL:https://kids.art-de-vivre-a-laremoise.com/event/expo-collective-22/
LOCATION:Saint-Ex Culture Numérique\, Chaussée Bocquaine\, Esplanade André Malraux\, Reims\, 51100\, France
CATEGORIES:Saint-Ex
ATTACH;FMTTYPE=image/jpeg:https://kids.art-de-vivre-a-laremoise.com/wp-content/uploads/2025/04/486367055_1102529205240236_8741136966890209858_n.jpg
END:VEVENT
BEGIN:VEVENT
DTSTART;TZID=Europe/Paris:20250322T080000
DTEND;TZID=Europe/Paris:20250322T170000
DTSTAMP:20260419T223437
CREATED:20250321T174904Z
LAST-MODIFIED:20250402T161322Z
UID:720-1742630400-1742662800@kids.art-de-vivre-a-laremoise.com
SUMMARY:printemps de la lecture Betheny
DESCRIPTION:Le printemps de la Lecture – Fête du livre jeunesse a lieu ce week end à Betheny ! Un événement à ne surtout pas louper : des animations\, des rencontres avec des auteurs et des livres Jeunesse !
URL:https://kids.art-de-vivre-a-laremoise.com/event/720/
CATEGORIES:Betheny
ATTACH;FMTTYPE=image/jpeg:https://kids.art-de-vivre-a-laremoise.com/wp-content/uploads/2025/03/485306040_1216966960428571_6993036216083446068_n.jpg
END:VEVENT
BEGIN:VEVENT
DTSTART;VALUE=DATE:20250326
DTEND;VALUE=DATE:20250329
DTSTAMP:20260419T223437
CREATED:20240830T140104Z
LAST-MODIFIED:20240903T145854Z
UID:98-1742947200-1743206399@kids.art-de-vivre-a-laremoise.com
SUMMARY:Le jour où j’ai compris que le ciel était bleu
DESCRIPTION:Une jeune femme autiste rêve de devenir chanteuse et se retrouve internée en hôpital psychiatrique. À la fois très documenté et très drôle\, le spectacle met en jeu la question de la normalité et les troubles de l’adolescence. Artiste implantée dans la Marne\, Laura Mariani élabore des spectacles de fiction ancrés dans des problématiques de société. À la suite d’un acte involontaire mais irréparable\, la jeune Claire attend son procès dans l’enceinte d’un établissement psychiatrique. Entre les visites du personnel médical ou judiciaire\, elle s’évade en pensée grâce à son désir obsessionnel de chanter dans une émission télévisée. Sa vision du monde\, légèrement décalée et souvent onirique\, pose finalement une loupe sur nos communes aspirations et étrangetés. \nMer. 26 mars 19h\nJeu. 27 mars 19h + séances scolaires\, dates sur notre site
URL:https://kids.art-de-vivre-a-laremoise.com/event/le-jour-ou-jai-compris-que-le-ciel-etait-bleu/
LOCATION:Comédie de Reims\, 3 Chaussée Bocquaine\, Reims\, 51100\, France
CATEGORIES:Comédie de Reims
ATTACH;FMTTYPE=image/jpeg:https://kids.art-de-vivre-a-laremoise.com/wp-content/uploads/2024/08/Cie-La-Pie╠Cce-Monte╠ue-Le-jour-ou╠C-jai-compris-que-le-ciel-e╠utait-bleu-photo-de-Cle╠umence-Demesme-p-e1725026516973.jpg
END:VEVENT
END:VCALENDAR